BEGIN:VCALENDAR
VERSION:2.0
PRODID:-//AudioTheme 3.0.2
BEGIN:VEVENT
UID:urn:uuid:c6631f74-8998-435f-935a-23a030096602
URL:https://jenniferknapp.com/shows/chattahoochee-hills-music-atlanta-ga/
DTSTART;TZID=GMT:20220924T233000
SUMMARY:Chattahoochee Hills Music (Atlanta, GA)
DESCRIPTION:Co-bill with Crys Matthews
LOCATION:Chattahoochee Hills Music\, 837 MIDDLETON WAY\, Chattahoochee Hills\, GA\, 30268
END:VEVENT
END:VCALENDAR
