BEGIN:VCALENDAR
VERSION:2.0
PRODID:-//AudioTheme 3.0.2
BEGIN:VEVENT
UID:urn:uuid:10c55840-c593-427e-87ca-a6506270d72a
URL:https://jenniferknapp.com/shows/durham-nc/
DTSTART;TZID=GMT:20241207T010000
SUMMARY:Durham NC
DESCRIPTION:Make The Yuletide Gay Holiday Tour with Crys Matthews & Flamy Grant
LOCATION:The Pinhook\, 117 W Main St\, Durham\, NC\, 27701
END:VEVENT
END:VCALENDAR
