BEGIN:VCALENDAR
VERSION:2.0
PRODID:-//AudioTheme 3.0.2
BEGIN:VEVENT
UID:urn:uuid:d0def10e-88c3-4c64-90ff-1bb6577fdea4
URL:https://jenniferknapp.com/shows/eddies-attic/
DTSTART;TZID=GMT:20230930T013000
SUMMARY:Eddie's Attic
DESCRIPTION:In the round with Sarah Peacock
LOCATION:Eddie's Attic\, 515 N McDonough St\, Decatur\, GA\, 30030
END:VEVENT
END:VCALENDAR
