BEGIN:VCALENDAR
VERSION:2.0
PRODID:-//AudioTheme 3.0.2
BEGIN:VEVENT
UID:urn:uuid:0f59326a-dfc1-467f-a20b-42ffbbdf0145
URL:https://jenniferknapp.com/shows/evening-muse/
DTSTART;TZID=GMT:20230927T233000
SUMMARY:Evening Muse
DESCRIPTION:In the round with Sarah Peacock.
LOCATION:The Evening Muse\, 3227 N. Davidson St.\, Charlotte\, NC\, 28205
END:VEVENT
END:VCALENDAR
