BEGIN:VCALENDAR
VERSION:2.0
PRODID:-//AudioTheme 3.0.2
BEGIN:VEVENT
UID:urn:uuid:fe87f550-0583-44e2-8527-016b501db4cd
URL:https://jenniferknapp.com/shows/fort-collins-co/
DTSTART;TZID=GMT:20251015T023000
SUMMARY:Fort Collins CO
DESCRIPTION:VIP tickets available.
LOCATION:The Atrium Music Lounge\, 120 1/2 West Laurel Street\, Fort Collins\, CO\, United States\, 80524
END:VEVENT
END:VCALENDAR
