BEGIN:VCALENDAR
VERSION:2.0
PRODID:-//AudioTheme 3.0.2
BEGIN:VEVENT
UID:urn:uuid:8eb9571b-fba1-4ec2-9b4b-f3683c7bf9a4
URL:https://jenniferknapp.com/shows/mt-vernon-wa/
DTSTART;TZID=GMT:20251023T020000
SUMMARY:Mt Vernon, WA
DESCRIPTION:VIP tickets available
LOCATION:White Branches\, 100 East Montgomery Street\, Mount Vernon\, WA\, United States\, 98273
END:VEVENT
END:VCALENDAR
