BEGIN:VCALENDAR
VERSION:2.0
PRODID:-//AudioTheme 3.0.2
BEGIN:VEVENT
UID:urn:uuid:c4cd8a1e-b782-49ac-b4c0-32600ea85a7e
URL:https://jenniferknapp.com/shows/national-coming-out-day-online-church-service/
DTSTART;TZID=GMT:20201011T140000
SUMMARY:National Coming Out Day: Online Church Service
LOCATION:First Baptist Church FB page\, Online Event\, 
END:VEVENT
END:VCALENDAR
