BEGIN:VCALENDAR
VERSION:2.0
PRODID:-//AudioTheme 3.0.2
BEGIN:VEVENT
UID:urn:uuid:0907dbe2-3021-4cf2-86a5-1f95cc733172
URL:https://jenniferknapp.com/shows/oklahoma-city-ok-3/
DTSTART;TZID=GMT:20251117T020000
SUMMARY:Oklahoma City OK
DESCRIPTION:Tickets NOW on sale
LOCATION:The Blue Door\, 2805 N McKinley Ave\, Oklahoma City\, OK\, 73106
END:VEVENT
END:VCALENDAR
