BEGIN:VCALENDAR
VERSION:2.0
PRODID:-//AudioTheme 3.0.2
BEGIN:VEVENT
UID:urn:uuid:13a78f49-ce98-48d6-9212-8674ae17c642
URL:https://jenniferknapp.com/shows/pops-art-theater/
DTSTART;TZID=GMT:20230804T000000
SUMMARY:Pop's Art Theater
DESCRIPTION:Opening Act: South For Winter.
LOCATION:Pop's Art Theater\, 619 6th Ave NW\, Rochester\, MN\, 55901
END:VEVENT
END:VCALENDAR
