BEGIN:VCALENDAR
VERSION:2.0
PRODID:-//AudioTheme 3.0.2
BEGIN:VEVENT
UID:urn:uuid:ccce1712-4b3e-464e-b6dd-67f126e178af
URL:https://jenniferknapp.com/shows/rumba-cafe/
DTSTART;TZID=GMT:20220917T230000
SUMMARY:Rumba Cafe
DESCRIPTION:An Evening with Jennifer Knapp
LOCATION:Rumba Cafe\, 2507 Summit Street\, Columbus\, OH\, 43202
END:VEVENT
END:VCALENDAR
