BEGIN:VCALENDAR
VERSION:2.0
PRODID:-//AudioTheme 3.0.2
BEGIN:VEVENT
UID:urn:uuid:1e53503e-4e10-4377-8d10-b9da4829ac18
URL:https://jenniferknapp.com/shows/saratoga-springs-ny/
DTSTART;TZID=GMT:20250216T193000
SUMMARY:Saratoga Springs NY
DESCRIPTION:with special guest Flamy Grant **Matinee Show**
LOCATION:Caffe Lena\, 47 Phila Street\, Saratoga Springs\, NY\, 12866
END:VEVENT
END:VCALENDAR
