BEGIN:VCALENDAR
VERSION:2.0
PRODID:-//AudioTheme 3.0.2
BEGIN:VEVENT
UID:urn:uuid:814eaacc-5634-4a22-847d-2a6c00f1ee5c
URL:https://jenniferknapp.com/shows/st-augustine-fl/
DTSTART;TZID=GMT:20241205T010000
SUMMARY:St Augustine FL
DESCRIPTION:Make The Yuletide Gay Holiday Tour with Crys Matthews & Flamy Grant
LOCATION:Cafe Eleven\, 501 A1A Beach Boulevard\, St Augustine Beach\, FL\, 32080
END:VEVENT
END:VCALENDAR
