BEGIN:VCALENDAR
VERSION:2.0
PRODID:-//AudioTheme 3.0.2
BEGIN:VEVENT
UID:urn:uuid:42e12f02-eaf8-4d96-952f-d86c628475e4
URL:https://jenniferknapp.com/shows/the-ark/
DTSTART;TZID=GMT:20230808T000000
SUMMARY:The Ark
DESCRIPTION:Opening Act: Thunder & Rain
LOCATION:The Ark\, 316 S. Main\, Ann Arbor\, MI\, 48104
END:VEVENT
END:VCALENDAR
