BEGIN:VCALENDAR
VERSION:2.0
PRODID:-//AudioTheme 3.0.2
BEGIN:VEVENT
UID:urn:uuid:35b34607-ffc0-493a-a914-7aac3a37a3b5
URL:https://jenniferknapp.com/shows/the-auricle/
DTSTART;TZID=GMT:20230812T003000
SUMMARY:The Auricle
DESCRIPTION:Opening Act: Thunder & Rain  Jennifer Knapp VIP M&G tix available.
LOCATION:The Auricle\, 601 Cleveland Ave NW\, Canton\, OH\, 44702
END:VEVENT
END:VCALENDAR
