BEGIN:VCALENDAR
VERSION:2.0
PRODID:-//AudioTheme 3.0.2
BEGIN:VEVENT
UID:urn:uuid:b8bd6ab4-f068-41b4-b889-88985837990d
URL:https://jenniferknapp.com/shows/the-soiled-dove/
DTSTART;TZID=GMT:20220930T020000
SUMMARY:The Soiled Dove
DESCRIPTION:Opening Act: Erinn Peet Lukes   VIP tickets available.
LOCATION:The Soiled Dove\, 7401 E. 1st Ave\, Denver\, CO\, 80230
END:VEVENT
END:VCALENDAR
