BEGIN:VCALENDAR
VERSION:2.0
PRODID:-//AudioTheme 3.0.2
BEGIN:VEVENT
UID:urn:uuid:66ad84da-831b-4b65-9129-9f724a989c9e
URL:https://jenniferknapp.com/shows/venue-220/
DTSTART;TZID=GMT:20230827T010000
SUMMARY:Venue 220
LOCATION:Venue 220 at Kitchen 18\, 218 North 1st Street\, Pulaski\, TN\, 38478
END:VEVENT
END:VCALENDAR
