BEGIN:VCALENDAR
VERSION:2.0
PRODID:-//AudioTheme 3.0.2
BEGIN:VEVENT
UID:urn:uuid:c5ed33c0-0757-4d2e-b45d-bc6ad4291068
URL:https://jenniferknapp.com/shows/woodstock-ny/
DTSTART;TZID=GMT:20230923T000000
SUMMARY:Colony Woodstock
DESCRIPTION:Co-headline show with Jill Sobule.
LOCATION:Colony Woodstock\, 22 Rock City Road\, Woodstock\, NY\, USA\, 12498
END:VEVENT
END:VCALENDAR
